BEGIN:VCALENDAR
VERSION:2.0
PRODID:-//ASMK - ECPv6.15.20//NONSGML v1.0//EN
CALSCALE:GREGORIAN
METHOD:PUBLISH
X-WR-CALNAME:ASMK
X-ORIGINAL-URL:https://asmk.mt
X-WR-CALDESC:Events for ASMK
REFRESH-INTERVAL;VALUE=DURATION:PT1H
X-Robots-Tag:noindex
X-PUBLISHED-TTL:PT1H
BEGIN:VTIMEZONE
TZID:UTC
BEGIN:STANDARD
TZOFFSETFROM:+0000
TZOFFSETTO:+0000
TZNAME:UTC
DTSTART:20250101T000000
END:STANDARD
END:VTIMEZONE
BEGIN:VEVENT
DTSTART;TZID=UTC:20260308T080000
DTEND;TZID=UTC:20260308T170000
DTSTAMP:20260423T175338
CREATED:20260302T122002Z
LAST-MODIFIED:20260302T122002Z
UID:9476-1772956800-1772989200@asmk.mt
SUMMARY:National Motocross Championship 25-26 Round 2
DESCRIPTION:Registration for Round 2 of the 2025-2026 National Motocross Championship\, 8th March 2026. \n 
URL:https://asmk.mt/events/national-motocross-championship-25-26-round-2/
END:VEVENT
END:VCALENDAR