BEGIN:VCALENDAR
VERSION:2.0
PRODID:-//ASMK - ECPv6.15.20//NONSGML v1.0//EN
CALSCALE:GREGORIAN
METHOD:PUBLISH
X-WR-CALNAME:ASMK
X-ORIGINAL-URL:https://asmk.mt
X-WR-CALDESC:Events for ASMK
REFRESH-INTERVAL;VALUE=DURATION:PT1H
X-Robots-Tag:noindex
X-PUBLISHED-TTL:PT1H
BEGIN:VTIMEZONE
TZID:UTC
BEGIN:STANDARD
TZOFFSETFROM:+0000
TZOFFSETTO:+0000
TZNAME:UTC
DTSTART:20240101T000000
END:STANDARD
END:VTIMEZONE
BEGIN:VEVENT
DTSTART;TZID=UTC:20251213T080000
DTEND;TZID=UTC:20251213T170000
DTSTAMP:20260424T001652
CREATED:20251206T065744Z
LAST-MODIFIED:20251211T165258Z
UID:9192-1765612800-1765645200@asmk.mt
SUMMARY:National Motocross Championship Round 1
DESCRIPTION:Registration of the first round of the ASMK National Motocross Championship
URL:https://asmk.mt/events/national-motocross-championship-round-1/
END:VEVENT
END:VCALENDAR